BEGIN:VCALENDAR
VERSION:2.0
PRODID:-//CHLSS - ECPv6.15.18//NONSGML v1.0//EN
CALSCALE:GREGORIAN
METHOD:PUBLISH
X-WR-CALNAME:CHLSS
X-ORIGINAL-URL:https://chlss.org
X-WR-CALDESC:Events for CHLSS
REFRESH-INTERVAL;VALUE=DURATION:PT1H
X-Robots-Tag:noindex
X-PUBLISHED-TTL:PT1H
BEGIN:VTIMEZONE
TZID:America/Chicago
BEGIN:DAYLIGHT
TZOFFSETFROM:-0600
TZOFFSETTO:-0500
TZNAME:CDT
DTSTART:20250309T080000
END:DAYLIGHT
BEGIN:STANDARD
TZOFFSETFROM:-0500
TZOFFSETTO:-0600
TZNAME:CST
DTSTART:20251102T070000
END:STANDARD
BEGIN:DAYLIGHT
TZOFFSETFROM:-0600
TZOFFSETTO:-0500
TZNAME:CDT
DTSTART:20260308T080000
END:DAYLIGHT
BEGIN:STANDARD
TZOFFSETFROM:-0500
TZOFFSETTO:-0600
TZNAME:CST
DTSTART:20261101T070000
END:STANDARD
BEGIN:DAYLIGHT
TZOFFSETFROM:-0600
TZOFFSETTO:-0500
TZNAME:CDT
DTSTART:20270314T080000
END:DAYLIGHT
BEGIN:STANDARD
TZOFFSETFROM:-0500
TZOFFSETTO:-0600
TZNAME:CST
DTSTART:20271107T070000
END:STANDARD
END:VTIMEZONE
BEGIN:VEVENT
DTSTART;TZID=America/Chicago:20260517T120000
DTEND;TZID=America/Chicago:20260517T140000
DTSTAMP:20260423T063619
CREATED:20260409T215250Z
LAST-MODIFIED:20260409T222512Z
UID:10001704-1779019200-1779026400@chlss.org
SUMMARY:Connect2Connect: Community Gathering
DESCRIPTION:Join Us for Community & Connection\nConnect2Connect provides opportunities for foster\, adoptive and kinship (formal or informal) families to connect with one another and build relationships in an in-person\, interactive\, and fun way. Connect2Connect is made possible by the Minnesota Department of Children\, Youth\, and Families Permanency Support Service grant. \nSunday\, May 17th\, 2026\, from 12:00 p.m. – 2:00 p.m. (CT)\nRed Barn Learning Farm; Hayfield\, MN\nPlease join us for an afternoon of connection\, play\, and farm fun at Red Barn Learning Farm – a destination your kids will be talking about for months to come! \nFamilies are welcome to arrive beginning at 12:00 pm\, when a sandwich lunch will be available in the picnic space. After lunch\, enjoy hands‑on activities and time to explore everything the farm has to offer together. \nActivities include: \n\nJump Pad\nIndoor Corn Pit\nLarge Petting Zoo\nBarnyard Basketball\nFarm Photo‑Op Areas\nBarnyard Play Yard\nClimbing in the silo\nJumping on straw bales in the barn\nCuddling a farm kitty\nPedal tractors\n\nThis event is designed for the whole family\, caregivers and kids alike\, and offers space for movement\, curiosity\, and connection at your own pace. \nWe look forward to gathering together in this relaxed\, welcoming farm setting! \nPlease note: You will receive an email with waivers for the event within a week after registering. If you do not complete the waivers by the deadline\, you will forfeit your spot to attend. \nRegister Here
URL:https://chlss.org/event/connect2connect-community-gathering-05-17-2026/
LOCATION:Red Barn Learning Farm\, 27251 State Hwy 30\, Hayfield\, MN\, 55940
CATEGORIES:Community Events
ATTACH;FMTTYPE=image/png:https://chlss.org/wp-content/uploads/2026/04/Untitled-design-23.png
END:VEVENT
BEGIN:VEVENT
DTSTART;TZID=America/Chicago:20260604T163000
DTEND;TZID=America/Chicago:20260604T183000
DTSTAMP:20260423T063619
CREATED:20260422T125911Z
LAST-MODIFIED:20260422T130148Z
UID:10001792-1780590600-1780597800@chlss.org
SUMMARY:Cheers to Children’s Home
DESCRIPTION:Cheers to Children’s Home!\nSwing into Lake Monster Brewing for a chance to catch up with fellow supporters of Children’s Home\, hear programmatic highlights from leaders and enjoy an array of local brews and appetizers. \nWhen                                                                                            Where\nThursday\, June 4                                                                      Lake Monster Brewing\n4:30 – 6:30 p.m.                                                                   550 Vandalia Street\, St. Paul\, MN 55114 \nClick Here to RSVP
URL:https://chlss.org/event/cheers-to-childrens-home-3/
LOCATION:Lake Monster Brewing\, 550 Vandalia Street\, St. Paul\, MN\, 55114\, United States
CATEGORIES:Community Events
END:VEVENT
END:VCALENDAR