BEGIN:VCALENDAR
VERSION:2.0
PRODID:-//CHLSS - ECPv6.15.18//NONSGML v1.0//EN
CALSCALE:GREGORIAN
METHOD:PUBLISH
X-ORIGINAL-URL:https://chlss.org
X-WR-CALDESC:Events for CHLSS
REFRESH-INTERVAL;VALUE=DURATION:PT1H
X-Robots-Tag:noindex
X-PUBLISHED-TTL:PT1H
BEGIN:VTIMEZONE
TZID:America/Chicago
BEGIN:DAYLIGHT
TZOFFSETFROM:-0600
TZOFFSETTO:-0500
TZNAME:CDT
DTSTART:20240310T080000
END:DAYLIGHT
BEGIN:STANDARD
TZOFFSETFROM:-0500
TZOFFSETTO:-0600
TZNAME:CST
DTSTART:20241103T070000
END:STANDARD
BEGIN:DAYLIGHT
TZOFFSETFROM:-0600
TZOFFSETTO:-0500
TZNAME:CDT
DTSTART:20250309T080000
END:DAYLIGHT
BEGIN:STANDARD
TZOFFSETFROM:-0500
TZOFFSETTO:-0600
TZNAME:CST
DTSTART:20251102T070000
END:STANDARD
BEGIN:DAYLIGHT
TZOFFSETFROM:-0600
TZOFFSETTO:-0500
TZNAME:CDT
DTSTART:20260308T080000
END:DAYLIGHT
BEGIN:STANDARD
TZOFFSETFROM:-0500
TZOFFSETTO:-0600
TZNAME:CST
DTSTART:20261101T070000
END:STANDARD
END:VTIMEZONE
BEGIN:VEVENT
DTSTART;TZID=America/Chicago:20251007T120000
DTEND;TZID=America/Chicago:20251007T133000
DTSTAMP:20260420T130634
CREATED:20250911T123548Z
LAST-MODIFIED:20251007T171310Z
UID:10001540-1759838400-1759843800@chlss.org
SUMMARY:Webinar: Curly Hair Loving Care
DESCRIPTION:Join Us for a Webinar: Curly Hair Loving Care\nTuesday\, Oct. 7 from 12-1:30 pm (CT) via Zoom\nThis course introduces parents to the connection children have with their hair as well as the needs of textured hair and melanated skin. Parents will gain an understanding of the importance of celebrating ties for children in foster care as well as the basics of proper hair care to begin styling with confidence. This workshop is beneficial for parents with textured hair children of all ages. \nPresented by Joy Hankins \nJoy Hankins is the Founder and CEO of The Joy of Curls\, a plant-based hair care brand with a mission to empower and support kids in foster care. As a foster parent and educator\, Joy combines her passion for textured hair with advocacy\, providing hair styling workshops and culture classes agencies and caregivers. Her impactful work has been featured in Fostering Families Today Magazine\, national podcasts\, and on ABC\, CBS and NBC news affiliates. In her spare time\, Joy loves traveling with her husband their small children as well as Salsa dancing. \nThis webinar will take place on Zoom. You will receive the link to join after registering below. \n 
URL:https://chlss.org/event/webinar-curly-hair-loving-care/
LOCATION:Online Webinar
CATEGORIES:Educational Events
ATTACH;FMTTYPE=image/png:https://chlss.org/wp-content/uploads/2025/09/Event-Pic-2.png
ORGANIZER;CN="Children's Home Society of Minnesota":MAILTO:welcome@chlss.org
END:VEVENT
BEGIN:VEVENT
DTSTART;TZID=America/Chicago:20251022T180000
DTEND;TZID=America/Chicago:20251022T200000
DTSTAMP:20260420T130634
CREATED:20250911T110549Z
LAST-MODIFIED:20260325T194049Z
UID:10001539-1761156000-1761163200@chlss.org
SUMMARY:G.R.O.W. - Guidance\, Resources and Opportunities While You Wait
DESCRIPTION:Our G.R.O.W. events are held quarterly (in January\, April\, July and October) and are open to all families in our infant adoption program that are home study approved. These events will offer a chance for families to connect and learn about various topics from one another and adoption professionals. \nADOPTIVE PARENT: PANEL & DISCUSSION\nVIRTUAL EVENT HELD VIA MICROSOFT TEAMS \nPlease join us as we explore the experiences of adoptive parents and their journey\nthrough the adoption\, finalization\, and parenting process. We will start the evening\nwith introducing our families and listening to their stories. There will be some time for\nquestions and answers at the end of the panel. Discussion of the panel and time for\nconnection with other waiting adoptive families will follow. \nPlease R.S.V.P. directly to your worker if you plan to attend.
URL:https://chlss.org/event/g-r-o-w-guidance-resources-and-opportunities-while-you-wait-10-22-2025/
LOCATION:Online Webinar
CATEGORIES:Educational Events
ATTACH;FMTTYPE=image/png:https://chlss.org/wp-content/uploads/2025/05/Website-Event-Pic-17.png
ORGANIZER;CN="Children's Home Society of Minnesota":MAILTO:welcome@chlss.org
END:VEVENT
BEGIN:VEVENT
DTSTART;TZID=America/Chicago:20251025T100000
DTEND;TZID=America/Chicago:20251025T163000
DTSTAMP:20260420T130634
CREATED:20250307T163959Z
LAST-MODIFIED:20250512T141214Z
UID:10001451-1761386400-1761409800@chlss.org
SUMMARY:TBRI®Training
DESCRIPTION:Content is protected.
URL:https://chlss.org/event/tbritraining-4/2025-10-25/
LOCATION:Online Webinar
CATEGORIES:Educational Events
END:VEVENT
END:VCALENDAR