BEGIN:VCALENDAR
VERSION:2.0
PRODID:-//CHLSS - ECPv6.15.18//NONSGML v1.0//EN
CALSCALE:GREGORIAN
METHOD:PUBLISH
X-WR-CALNAME:CHLSS
X-ORIGINAL-URL:https://chlss.org
X-WR-CALDESC:Events for CHLSS
REFRESH-INTERVAL;VALUE=DURATION:PT1H
X-Robots-Tag:noindex
X-PUBLISHED-TTL:PT1H
BEGIN:VTIMEZONE
TZID:America/Chicago
BEGIN:DAYLIGHT
TZOFFSETFROM:-0600
TZOFFSETTO:-0500
TZNAME:CDT
DTSTART:20230312T080000
END:DAYLIGHT
BEGIN:STANDARD
TZOFFSETFROM:-0500
TZOFFSETTO:-0600
TZNAME:CST
DTSTART:20231105T070000
END:STANDARD
BEGIN:DAYLIGHT
TZOFFSETFROM:-0600
TZOFFSETTO:-0500
TZNAME:CDT
DTSTART:20240310T080000
END:DAYLIGHT
BEGIN:STANDARD
TZOFFSETFROM:-0500
TZOFFSETTO:-0600
TZNAME:CST
DTSTART:20241103T070000
END:STANDARD
BEGIN:DAYLIGHT
TZOFFSETFROM:-0600
TZOFFSETTO:-0500
TZNAME:CDT
DTSTART:20250309T080000
END:DAYLIGHT
BEGIN:STANDARD
TZOFFSETFROM:-0500
TZOFFSETTO:-0600
TZNAME:CST
DTSTART:20251102T070000
END:STANDARD
END:VTIMEZONE
BEGIN:VEVENT
DTSTART;TZID=America/Chicago:20240419T180000
DTEND;TZID=America/Chicago:20240421T123000
DTSTAMP:20260420T221959
CREATED:20240206T205100Z
LAST-MODIFIED:20240805T133439Z
UID:10001069-1713549600-1713702600@chlss.org
SUMMARY:Foster & Foster Adopted Youth Retreat
DESCRIPTION:An Opportunity for Foster & Foster Adopted Youth to Make New Connections & Build Friendships\nFriday\, April 19-Sunday\, April 21\, 2024 | Camp Knutson\, Crosslake\, Minnesota\nLutheran Social Service (LSS) is excited to offer a special opportunity for foster and foster adopted youth (ages 13-17) to spend a weekend among peers who have shared life experiences at Camp Knutson (Camp K) in Crosslake\, Minnesota. In addition to helping foster and foster adopted youth build new connections and make new friends\, this retreat will offer an opportunity for siblings who are not currently residing in the same placement to spend quality time together and maintain their familial bond. Registration priority will be given to siblings who do not reside in the same household. Whether attending with a sibling or not\, every youth will gain valuable life skills that can be used long after the retreat has concluded. \nRetreat Location: Camp K is located at 11148 Manhattan Point Blvd\, Crosslake\, Minnesota 56422. \nSchedule & Transportation: This retreat will take place from Friday\, April 19\, 2024\, at 6 p.m. to Sunday\, April 21\, 2024\, at 12:30 p.m. Optional transportation will be provided for those interested. Buses will depart from our St. Paul office located at 1605 Eustis Street\, Saint Paul\, MN at 3:00 p.m. Friday\, April 19\, and will return on Sunday\, April 21\, at approximately 3:30 p.m. Youth can also be dropped off and picked up directly from Camp K. \nCost to attend: Free! We are pleased to offer this retreat free of cost thanks to funding through the Minnesota Department of Human Services Permanency Support Services contract. \nAbout Camp K:\nCamp K is a welcoming\, inclusive camp where guests can build friendships\, recognize their strengths\, gain self-confidence\, and identify skills to help them realize their goals. \nWhat Campers Can Expect: \n\nCamp K is a fully accessible camp.\nYouth will be staying in cabins with staff.\nThere will be non-gendered sleeping space options available.\nYouth will be supervised by adoption professionals\, trained volunteer chaperones\, and Camp K staff.\nThis retreat will be unplugged! The best way to help youth build connections and spend quality time together will be without electronic devices. Devices will be collected and stored by staff.\n\nMore information about Camp K can be found at lssmn.org/campknutson. \nRetreat Activities May Include the Following (weather permitting):\n\nArchery (indoor or outdoor)\nArts and Crafts\nCooking Class\nGroup Games (indoor or outdoor)\nLife Skills Curriculum (introduction to financial literacy\, resume building/interview skills)\n\nQuestions?\nPlease email Elizabeth Bohlken at elizabeth.bohlken@chlss.org. \nThank you for your interest in the 2024 Youth Retreat. Due to the high volume of interest received\, we are no longer accepting additions to the waitlist. Please check back for future opportunities.
URL:https://chlss.org/event/foster-foster-adopted-youth-retreat/
LOCATION:Camp Knutson\, 11148 Manhattan Point Blvd\, Crosslake\, MN\, 56422\, United States
CATEGORIES:Community Events
ATTACH;FMTTYPE=image/png:https://chlss.org/wp-content/uploads/2024/02/Website-Subpage-Hero-Image-1.png
END:VEVENT
END:VCALENDAR