BEGIN:VCALENDAR
VERSION:2.0
PRODID:-//CHLSS - ECPv6.15.18//NONSGML v1.0//EN
CALSCALE:GREGORIAN
METHOD:PUBLISH
X-ORIGINAL-URL:https://chlss.org
X-WR-CALDESC:Events for CHLSS
REFRESH-INTERVAL;VALUE=DURATION:PT1H
X-Robots-Tag:noindex
X-PUBLISHED-TTL:PT1H
BEGIN:VTIMEZONE
TZID:America/Chicago
BEGIN:DAYLIGHT
TZOFFSETFROM:-0600
TZOFFSETTO:-0500
TZNAME:CDT
DTSTART:20230312T080000
END:DAYLIGHT
BEGIN:STANDARD
TZOFFSETFROM:-0500
TZOFFSETTO:-0600
TZNAME:CST
DTSTART:20231105T070000
END:STANDARD
BEGIN:DAYLIGHT
TZOFFSETFROM:-0600
TZOFFSETTO:-0500
TZNAME:CDT
DTSTART:20240310T080000
END:DAYLIGHT
BEGIN:STANDARD
TZOFFSETFROM:-0500
TZOFFSETTO:-0600
TZNAME:CST
DTSTART:20241103T070000
END:STANDARD
BEGIN:DAYLIGHT
TZOFFSETFROM:-0600
TZOFFSETTO:-0500
TZNAME:CDT
DTSTART:20250309T080000
END:DAYLIGHT
BEGIN:STANDARD
TZOFFSETFROM:-0500
TZOFFSETTO:-0600
TZNAME:CST
DTSTART:20251102T070000
END:STANDARD
END:VTIMEZONE
BEGIN:VEVENT
DTSTART;TZID=America/Chicago:20240606T163000
DTEND;TZID=America/Chicago:20240606T183000
DTSTAMP:20260420T085752
CREATED:20240419T195523Z
LAST-MODIFIED:20240419T204931Z
UID:10001107-1717691400-1717698600@chlss.org
SUMMARY:Cheers to Children's Home!
DESCRIPTION:Please join us for a casual\, open-house style pub event at Lake Monster Brewing in Saint Paul. We are looking forward to connecting with you\, talking about our current programs\, and sharing what’s ahead. We hope you can join us in conversation\, appetizers\, and a beverage while learning about the ways you can engage with Children’s Home. \nRSVP Now
URL:https://chlss.org/event/cheers-to-childrens-home/
LOCATION:Lake Monster Brewing\, 550 Vandalia Street\, St. Paul\, MN\, 55114\, United States
CATEGORIES:Community Events
ATTACH;FMTTYPE=image/png:https://chlss.org/wp-content/uploads/2024/04/Website-Subpage-Hero-Image-1-1.png
ORGANIZER;CN="Children's Home Society of Minnesota":MAILTO:development@chlss.org
END:VEVENT
END:VCALENDAR